{
 "currentVersion": 11.3,
 "serviceDescription": "gis/Hojd_Dem2019_stora_strandv",
 "name": "gis/Hojd_Dem2019_stora_strandv",
 "description": "",
 "extent": {
  "xmin": 113561.593098493,
  "ymin": 6259514.17206765,
  "xmax": 114480.909980093,
  "ymax": 6261120.94747685,
  "spatialReference": {
   "wkid": 3008,
   "latestWkid": 3008
  }
 },
 "initialExtent": {
  "xmin": 113561.593098493,
  "ymin": 6259514.17206765,
  "xmax": 114480.909980093,
  "ymax": 6261120.94747685,
  "spatialReference": {
   "wkid": 3008,
   "latestWkid": 3008
  }
 },
 "fullExtent": {
  "xmin": 113561.593098493,
  "ymin": 6259514.17206765,
  "xmax": 114480.909980093,
  "ymax": 6261120.94747685,
  "spatialReference": {
   "wkid": 3008,
   "latestWkid": 3008
  }
 },
 "sortableFields": "",
 "bandCount": 1,
 "pixelType": "F32",
 "minValues": [
  -0.3472241461277008
 ],
 "maxValues": [
  22.535171508789062
 ],
 "meanValues": [
  3.186170806023699
 ],
 "stdvValues": [
  2.4782062796869067
 ],
 "hasMultidimensions": false,
 "pixelSizeX": 0.05968039999999975,
 "pixelSizeY": 0.059680400000008495,
 "meanPixelSize": 0.05968040000000412,
 "datasetFormat": "SDR",
 "uncompressedSize": 1658887568,
 "blockWidth": 128,
 "blockHeight": 128,
 "compressionType": "LZ77",
 "bandNames": [
  "Band_1"
 ],
 "allowCopy": true,
 "allowAnalysis": true,
 "itemAccess": false,
 "inspectionCapabilities": "",
 "minPixelSize": 0.29808177737081154,
 "maxPixelSize": 78140.34944709402,
 "copyrightText": "",
 "serviceDataType": "esriImageServiceDataTypeGeneric",
 "serviceSourceType": "esriImageServiceSourceTypeDataset",
 "objectIdField": "",
 "fields": [],
 "capabilities": "Image,Metadata,Mensuration",
 "defaultMosaicMethod": "Center",
 "allowedMosaicMethods": "",
 "sortField": "",
 "sortValue": null,
 "sortAscending": true,
 "mosaicOperator": "First",
 "defaultCompressionQuality": 75,
 "defaultResamplingMethod": "Bilinear",
 "maxImageHeight": 4100,
 "maxImageWidth": 15000,
 "singleFusedMapCache": true,
 "tileInfo": {
  "rows": 256,
  "cols": 256,
  "dpi": 96,
  "format": "LERC",
  "compressionQuality": 0,
  "lercError": 0.05,
  "origin": {
   "x": -9851964.729228035,
   "y": 1.0001964729228035E7
  },
  "spatialReference": {
   "wkid": 3008,
   "latestWkid": 3008,
   "vcsWkid": 105702,
   "latestVcsWkid": 5613
  },
  "lods": [
   {
    "level": 0,
    "resolution": 78140.34944709402,
    "scale": 2.9533360420948917E8
   },
   {
    "level": 1,
    "resolution": 39070.17472354701,
    "scale": 1.4766680210474458E8
   },
   {
    "level": 2,
    "resolution": 19535.087361773505,
    "scale": 7.383340105237229E7
   },
   {
    "level": 3,
    "resolution": 9767.543680886753,
    "scale": 3.6916700526186146E7
   },
   {
    "level": 4,
    "resolution": 4883.771840443376,
    "scale": 1.8458350263093073E7
   },
   {
    "level": 5,
    "resolution": 2441.885920221688,
    "scale": 9229175.131546536
   },
   {
    "level": 6,
    "resolution": 1220.942960110844,
    "scale": 4614587.565773268
   },
   {
    "level": 7,
    "resolution": 610.471480055422,
    "scale": 2307293.782886634
   },
   {
    "level": 8,
    "resolution": 305.235740027711,
    "scale": 1153646.891443317
   },
   {
    "level": 9,
    "resolution": 152.6178700138555,
    "scale": 576823.4457216585
   },
   {
    "level": 10,
    "resolution": 76.30893500692775,
    "scale": 288411.72286082926
   },
   {
    "level": 11,
    "resolution": 38.15446750346388,
    "scale": 144205.86143041463
   },
   {
    "level": 12,
    "resolution": 19.07723375173194,
    "scale": 72102.93071520732
   },
   {
    "level": 13,
    "resolution": 9.53861687586597,
    "scale": 36051.46535760366
   },
   {
    "level": 14,
    "resolution": 4.769308437932985,
    "scale": 18025.73267880183
   },
   {
    "level": 15,
    "resolution": 2.3846542189664923,
    "scale": 9012.866339400915
   },
   {
    "level": 16,
    "resolution": 1.1923271094832462,
    "scale": 4506.433169700457
   },
   {
    "level": 17,
    "resolution": 0.5961635547416231,
    "scale": 2253.2165848502286
   },
   {
    "level": 18,
    "resolution": 0.29808177737081154,
    "scale": 1126.6082924251143
   }
  ]
 },
 "storageInfo": {
  "storageFormat": "esriMapCacheStorageModeCompactV2",
  "packetSize": 128
 },
 "cacheType": "Elevation",
 "allowRasterFunction": true,
 "rasterFunctionInfos": [
  {
   "name": "None",
   "description": "",
   "help": ""
  }
 ],
 "rasterTypeInfos": [
  {
   "name": "Raster Dataset",
   "description": "Supports all ArcGIS Raster Datasets",
   "help": ""
  }
 ],
 "mensurationCapabilities": "Basic",
 "hasHistograms": true,
 "hasColormap": false,
 "hasRasterAttributeTable": false,
 "minScale": 2.9533360420948917E8,
 "maxScale": 1126.6082924251143,
 "minLOD": 0,
 "maxLOD": 18,
 "exportTilesAllowed": false,
 "supportsStatistics": false,
 "supportsAdvancedQueries": false,
 "editFieldsInfo": null,
 "ownershipBasedAccessControlForRasters": null,
 "allowComputeTiePoints": false,
 "useStandardizedQueries": true,
 "advancedQueryCapabilities": {
  "useStandardizedQueries": true,
  "supportsStatistics": false,
  "supportsOrderBy": false,
  "supportsDistinct": false,
  "supportsPagination": false
 },
 "spatialReference": {
  "wkid": 3008,
  "latestWkid": 3008
 }
}
